BEGIN:VCALENDAR
VERSION:2.0
PRODID:-//NADI Felda Lubok Merbau - ECPv6.15.20//NONSGML v1.0//EN
CALSCALE:GREGORIAN
METHOD:PUBLISH
X-WR-CALNAME:NADI Felda Lubok Merbau
X-ORIGINAL-URL:https://feldalubokmerbau.nadi.my
X-WR-CALDESC:Events for NADI Felda Lubok Merbau
REFRESH-INTERVAL;VALUE=DURATION:PT1H
X-Robots-Tag:noindex
X-PUBLISHED-TTL:PT1H
BEGIN:VTIMEZONE
TZID:Asia/Kuala_Lumpur
BEGIN:STANDARD
TZOFFSETFROM:+0800
TZOFFSETTO:+0800
TZNAME:+08
DTSTART:20250101T000000
END:STANDARD
END:VTIMEZONE
BEGIN:VEVENT
DTSTART;TZID=Asia/Kuala_Lumpur:20260423T100000
DTEND;TZID=Asia/Kuala_Lumpur:20260423T120000
DTSTAMP:20260423T014606
CREATED:20260421T122351Z
LAST-MODIFIED:20260421T122351Z
UID:7676-1776938400-1776945600@feldalubokmerbau.nadi.my
SUMMARY:Empoweher / NADIPreneur Live Webinar
DESCRIPTION:
URL:https://feldalubokmerbau.nadi.my/event/empoweher-nadipreneur-live-webinar/
LOCATION:NADI Felda Lubok Merbau\, NADI Felda Lubok Merbau
END:VEVENT
BEGIN:VEVENT
DTSTART;TZID=Asia/Kuala_Lumpur:20260423T150000
DTEND;TZID=Asia/Kuala_Lumpur:20260423T163000
DTSTAMP:20260423T014606
CREATED:20260421T122504Z
LAST-MODIFIED:20260421T122504Z
UID:7678-1776956400-1776961800@feldalubokmerbau.nadi.my
SUMMARY:CyberSecurity Live Webinar - Bagaimana Akaun Sosial Anda Boleh Digodam
DESCRIPTION:
URL:https://feldalubokmerbau.nadi.my/event/cybersecurity-live-webinar-bagaimana-akaun-sosial-anda-boleh-digodam/
LOCATION:NADI Felda Lubok Merbau\, NADI Felda Lubok Merbau
END:VEVENT
BEGIN:VEVENT
DTSTART;TZID=Asia/Kuala_Lumpur:20260424T103000
DTEND;TZID=Asia/Kuala_Lumpur:20260424T110000
DTSTAMP:20260423T014606
CREATED:20260421T122622Z
LAST-MODIFIED:20260421T122622Z
UID:7682-1777026600-1777028400@feldalubokmerbau.nadi.my
SUMMARY:Webinar Live Kesejahteraan Kendiri
DESCRIPTION:
URL:https://feldalubokmerbau.nadi.my/event/webinar-live-kesejahteraan-kendiri/
LOCATION:NADI Felda Lubok Merbau\, NADI Felda Lubok Merbau
END:VEVENT
BEGIN:VEVENT
DTSTART;TZID=Asia/Kuala_Lumpur:20260424T150000
DTEND;TZID=Asia/Kuala_Lumpur:20260424T163000
DTSTAMP:20260423T014606
CREATED:20260421T122546Z
LAST-MODIFIED:20260421T122546Z
UID:7680-1777042800-1777048200@feldalubokmerbau.nadi.my
SUMMARY:Kelas Mahir - Mahir Baiki Gadget
DESCRIPTION:
URL:https://feldalubokmerbau.nadi.my/event/kelas-mahir-mahir-baiki-gadget-9/
LOCATION:NADI Felda Lubok Merbau\, NADI Felda Lubok Merbau
END:VEVENT
BEGIN:VEVENT
DTSTART;TZID=Asia/Kuala_Lumpur:20260425T100000
DTEND;TZID=Asia/Kuala_Lumpur:20260425T113000
DTSTAMP:20260423T014606
CREATED:20260421T122749Z
LAST-MODIFIED:20260421T122749Z
UID:7684-1777111200-1777116600@feldalubokmerbau.nadi.my
SUMMARY:Kidventure Live Webinar - Pemasaran 2
DESCRIPTION:
URL:https://feldalubokmerbau.nadi.my/event/kidventure-live-webinar-pemasaran-2/
LOCATION:NADI Felda Lubok Merbau\, NADI Felda Lubok Merbau
END:VEVENT
END:VCALENDAR